BEGIN:VCALENDAR
VERSION:2.0
PRODID:-//https://ischiaeventi.it///NONSGML kigkonsult.se iCalcreator 2.10.15//
METHOD:PUBLISH
BEGIN:VEVENT
UID:20260421T145452UTC-0680oXrleG@https://ischiaeventi.it/
DTSTAMP:20260421T145452Z
DESCRIPTION:JAZZ ITINERANTE con simpatici musicisti che suoneranno lungo il
  Corso di Forio https://ischiaeventi.it/en/events/intrattenimento/by-night
 /event/34282-forio-merryland-jazz-itinerante
DTSTART:20241229T150000Z
DTEND:20241229T170000Z
LOCATION:Comune di Forio (Piazza Municipio\, 1\, 80075 Forio NA\, Italia)
SUMMARY:Forio MerryLand: JAZZ ITINERANTE
URL:https://ischiaeventi.it/en/events/intrattenimento/by-night/event/34282-
 forio-merryland-jazz-itinerante
END:VEVENT
END:VCALENDAR
