BEGIN:VCALENDAR
VERSION:2.0
PRODID:-//https://ischiaeventi.it///NONSGML kigkonsult.se iCalcreator 2.10.15//
METHOD:PUBLISH
BEGIN:VEVENT
UID:20260420T101248UTC-7934INuVPR@https://ischiaeventi.it/
DTSTAMP:20260420T101248Z
DESCRIPTION:&nbsp\;Brunch in piazza https://ischiaeventi.it/en/events/intra
 ttenimento/by-night/event/35835-natale-a-ischia-brunch-in-piazza
DTSTART:20241224T110000Z
DTEND:20241224T140000Z
LOCATION:Via Roma (Via Roma\, 80077 Ischia NA\, Italia)
SUMMARY:Natale a Ischia: Brunch in piazza
URL:https://ischiaeventi.it/en/events/intrattenimento/by-night/event/35835-
 natale-a-ischia-brunch-in-piazza
END:VEVENT
END:VCALENDAR
