BEGIN:VCALENDAR
VERSION:2.0
PRODID:-//https://ischiaeventi.it///NONSGML kigkonsult.se iCalcreator 2.10.15//
METHOD:PUBLISH
BEGIN:VEVENT
UID:20260420T083734UTC-6118RpL3CW@https://ischiaeventi.it/
DTSTAMP:20260420T083734Z
DESCRIPTION:Natale a Ischia: Mario Biondi https://ischiaeventi.it/en/events
 /intrattenimento/by-night/event/35837-natale-a-ischia-mario-biondi
DTSTART:20241228T200000Z
DTEND:20241228T220000Z
LOCATION:Piazza degli Eroi (Piazza Degli Eroi\, 80077 Ischia NA\, Italia)
SUMMARY:Natale a Ischia: Mario Biondi
URL:https://ischiaeventi.it/en/events/intrattenimento/by-night/event/35837-
 natale-a-ischia-mario-biondi
END:VEVENT
END:VCALENDAR
