BEGIN:VCALENDAR
VERSION:2.0
PRODID:-//https://ischiaeventi.it///NONSGML kigkonsult.se iCalcreator 2.10.15//
METHOD:PUBLISH
BEGIN:VEVENT
UID:20260420T150712UTC-2207kHTL85@https://ischiaeventi.it/
DTSTAMP:20260420T150712Z
DESCRIPTION:Polifunzionale S. Angelo ore 19.00 'Le voci di dentro' commedia
  di Eduardo De Filippo a cura di 'Teatro da Tre Soldi https://ischiaeventi
 .it/en/events/intrattenimento/by-night/event/36887-mare-copp-mas-le-voci-d
 i-dentro
DTSTART:20241225T180000Z
DTEND:20241225T200000Z
LOCATION:Centro Polifunzionale di Fontana (Piazza Arturo Trofa - Serrara)
SUMMARY:Mare Copp Mas: 'Le voci di dentro'
URL:https://ischiaeventi.it/en/events/intrattenimento/by-night/event/36887-
 mare-copp-mas-le-voci-di-dentro
END:VEVENT
END:VCALENDAR
