BEGIN:VCALENDAR
VERSION:2.0
PRODID:-//https://ischiaeventi.it///NONSGML kigkonsult.se iCalcreator 2.10.15//
METHOD:PUBLISH
BEGIN:VEVENT
UID:20260420T203019UTC-5392oo2rjv@https://ischiaeventi.it/
DTSTAMP:20260420T203019Z
DESCRIPTION:Veronica MatareseLA FORZA DI UNA MAMMA&nbsp\;\nApril 27\, 20265
 :00 PMCouncil Chamber of the Municipality of Forio\nWe look forward to see
 ing you! https://ischiaeventi.it/en/events/intrattenimento/cinema/event/24
 9896-book-presentation-la-forza-di-una-mamma
DTSTART:20260427T150000Z
DTEND:20260427T170000Z
LOCATION:Sala conferenze Porto di Forio (Via Cristoforo Colombo\, 1311\, 80
 075 Forio NA\, Italia)
SUMMARY:Book Presentation: LA FORZA DI UNA MAMMA
URL:https://ischiaeventi.it/en/events/intrattenimento/cinema/event/249896-b
 ook-presentation-la-forza-di-una-mamma
END:VEVENT
END:VCALENDAR
