BEGIN:VCALENDAR
VERSION:2.0
PRODID:-//https://ischiaeventi.it///NONSGML kigkonsult.se iCalcreator 2.10.15//
METHOD:PUBLISH
BEGIN:VEVENT
UID:20260422T113824UTC-6390orW94i@https://ischiaeventi.it/
DTSTAMP:20260422T113824Z
DESCRIPTION:Forio in Bloom'Stories of broom\, mallows\, and cannaffere'23rd
  Edition\nSaturday\, April 25\, 2026 at 6:00 PMnear the fountain in Piazza
  Matteotti – Forio\nParade of the City of Forio marching band Floral arran
 gement displays “Green lounge” curated by Professors Anna Capodanno and Ro
 sa CaliseDance performance by the “Magia della Danza” school by Mary Sport
 iello with the special participation of Miss Ischia Elisabet Viktoria Ruzh
 ylaMusical accompaniment by Denis Trani and Ivan Matarese https://ischiaev
 enti.it/en/events/intrattenimento/cinema/event/249897-forio-in-bloom-stori
 es-of-broom-mallows-and-cannaffere
DTSTART:20260425T160000Z
DTEND:20260425T180000Z
LOCATION:Piazza Giacomo Matteotti (80075 Forio NA\, Italia)
SUMMARY:Forio in Bloom 'Stories of broom\, mallows\, and cannaffere'
URL:https://ischiaeventi.it/en/events/intrattenimento/cinema/event/249897-f
 orio-in-bloom-stories-of-broom-mallows-and-cannaffere
END:VEVENT
END:VCALENDAR
