BEGIN:VCALENDAR
VERSION:2.0
PRODID:-//https://ischiaeventi.it///NONSGML kigkonsult.se iCalcreator 2.10.15//
METHOD:PUBLISH
BEGIN:VEVENT
UID:20260420T085118UTC-1160CutO0C@https://ischiaeventi.it/
DTSTAMP:20260420T085118Z
DESCRIPTION:Nella straordinaria cornice del Centro Storico di Panza si esib
 iranno i MaLa Bazar\, per una serata all’insegna dei ricordi e della nosta
 lgia. https://ischiaeventi.it/en/events/intrattenimento/cinema/event/29240
 -concerto-matia-bazar
DTSTART:20240427T183000Z
DTEND:20240427T214800Z
LOCATION:Panza (Piazza San Leonardo - 80075 Panza Forio)
SUMMARY:Concerto Matia Bazar
URL:https://ischiaeventi.it/en/events/intrattenimento/cinema/event/29240-co
 ncerto-matia-bazar
END:VEVENT
END:VCALENDAR
