BEGIN:VCALENDAR
VERSION:2.0
PRODID:-//https://ischiaeventi.it///NONSGML kigkonsult.se iCalcreator 2.10.15//
METHOD:PUBLISH
BEGIN:VEVENT
UID:20260420T103800UTC-5299cBhAuV@https://ischiaeventi.it/
DTSTAMP:20260420T103800Z
DESCRIPTION:Summer Time Serrara: MUSICNIGHT CON I PERSONAL https://ischiaev
 enti.it/en/events/intrattenimento/cinema/event/31249-summer-time-serrara-m
 usicnight-con-i-personal
DTSTART:20240822T190000Z
DTEND:20240822T210000Z
LOCATION:Piazza Sant'Angelo  (80070 Serrara Fontana NA\, Italia)
SUMMARY:Summer Time Serrara: MUSICNIGHT CON I PERSONAL
URL:https://ischiaeventi.it/en/events/intrattenimento/cinema/event/31249-su
 mmer-time-serrara-musicnight-con-i-personal
END:VEVENT
END:VCALENDAR
