BEGIN:VCALENDAR
VERSION:2.0
PRODID:-//https://ischiaeventi.it///NONSGML kigkonsult.se iCalcreator 2.10.15//
METHOD:PUBLISH
BEGIN:VEVENT
UID:20260420T115306UTC-0731t5RVoo@https://ischiaeventi.it/
DTSTAMP:20260420T115306Z
DESCRIPTION:Summer Time Serrara: MUSICNIGHT CON I PERSONAL https://ischiaev
 enti.it/en/events/intrattenimento/cinema/event/31252-summer-time-serrara-m
 usicnight-con-i-personal
DTSTART:20240829T190000Z
DTEND:20240829T210000Z
LOCATION:Succhivo (Provinciale Succhivo Sant'Angelo\, 21-27\, 80070 Sant'An
 gelo NA\, Italy)
SUMMARY:Summer Time Serrara: MUSICNIGHT CON I PERSONAL
URL:https://ischiaeventi.it/en/events/intrattenimento/cinema/event/31252-su
 mmer-time-serrara-musicnight-con-i-personal
END:VEVENT
END:VCALENDAR
