BEGIN:VCALENDAR
VERSION:2.0
PRODID:-//https://ischiaeventi.it///NONSGML kigkonsult.se iCalcreator 2.10.15//
METHOD:PUBLISH
BEGIN:VEVENT
UID:20260420T095742UTC-5996kAuICL@https://ischiaeventi.it/
DTSTAMP:20260420T095742Z
DESCRIPTION:CONCERTO JAZZ per una full immersion tra sonorità jazz\, rithm 
 &amp\; blues\, soul e gospel in Piazza San Gaetano Forio&nbsp\; https://is
 chiaeventi.it/en/events/intrattenimento/cinema/event/34302-forio-merryland
 -concerto-jazz
DTSTART:20250103T200000Z
DTEND:20250103T215900Z
LOCATION:Comune di Forio (Piazza Municipio\, 1\, 80075 Forio NA\, Italia)
SUMMARY:Forio MerryLand: CONCERTO JAZZ 
URL:https://ischiaeventi.it/en/events/intrattenimento/cinema/event/34302-fo
 rio-merryland-concerto-jazz
END:VEVENT
END:VCALENDAR
