BEGIN:VCALENDAR
VERSION:2.0
PRODID:-//https://ischiaeventi.it///NONSGML kigkonsult.se iCalcreator 2.10.15//
METHOD:PUBLISH
BEGIN:VEVENT
UID:20260420T115620UTC-9537CWvFCt@https://ischiaeventi.it/
DTSTAMP:20260420T115620Z
DESCRIPTION:CANZONI NAPOLETANE artista partenopeo che ci delizierà con la s
 ua meravigliosa voce con famose canzoni napoletane in Forio https://ischia
 eventi.it/en/events/intrattenimento/cinema/event/34330-forio-merryland-can
 zoni-napoletane
DTSTART:20250104T200000Z
DTEND:20250104T225900Z
LOCATION:Comune di Forio (Piazza Municipio\, 1\, 80075 Forio NA\, Italia)
SUMMARY:Forio MerryLand: CANZONI NAPOLETANE
URL:https://ischiaeventi.it/en/events/intrattenimento/cinema/event/34330-fo
 rio-merryland-canzoni-napoletane
END:VEVENT
END:VCALENDAR
