BEGIN:VCALENDAR
VERSION:2.0
PRODID:-//https://ischiaeventi.it///NONSGML kigkonsult.se iCalcreator 2.10.15//
METHOD:PUBLISH
BEGIN:VEVENT
UID:20260420T115248UTC-3091uc1fa5@https://ischiaeventi.it/
DTSTAMP:20260420T115248Z
DESCRIPTION:Light for Peace: Vertical Orchestra Concert https://ischiaevent
 i.it/en/events/intrattenimento/concerts/event/249361-christmas-in-casamicc
 iola-vertical-orchestra
DTSTART:20251222T183000Z
DTEND:20251222T200000Z
LOCATION:Chiesa parrocchiale Santa Maria Maddalena (Via Giuseppe Garibaldi\
 , 80074 Casamicciola Terme NA\, Italia)
SUMMARY:Christmas in Casamicciola: Vertical Orchestra
URL:https://ischiaeventi.it/en/events/intrattenimento/concerts/event/249361
 -christmas-in-casamicciola-vertical-orchestra
END:VEVENT
END:VCALENDAR
