BEGIN:VCALENDAR
VERSION:2.0
PRODID:-//https://ischiaeventi.it///NONSGML kigkonsult.se iCalcreator 2.10.15//
METHOD:PUBLISH
BEGIN:VEVENT
UID:20260422T202530UTC-9011Rz88u9@https://ischiaeventi.it/
DTSTAMP:20260422T202530Z
DESCRIPTION:Open Archery Session | Tastings of Telese Specialties | Graphic
  Open Day! https://ischiaeventi.it/en/events/intrattenimento/concerts/even
 t/249439-aperitiro-at-telese
DTSTART:20260122T150000Z
DTEND:20260122T170000Z
LOCATION:Istituto Professionale di stato 'Vincenzo Telese' (Via Fondo Bosso
 \, 1\, 80077 Ischia NA\, Italia)
SUMMARY:Aperitiro at Telese
URL:https://ischiaeventi.it/en/events/intrattenimento/concerts/event/249439
 -aperitiro-at-telese
END:VEVENT
END:VCALENDAR
