BEGIN:VCALENDAR
VERSION:2.0
PRODID:-//https://ischiaeventi.it///NONSGML kigkonsult.se iCalcreator 2.10.15//
METHOD:PUBLISH
BEGIN:VEVENT
UID:20260422T203602UTC-7717akUSKA@https://ischiaeventi.it/
DTSTAMP:20260422T203602Z
DESCRIPTION:31st Day of Memory and Commitment in Remembrance of the Innocen
 t Victims of the MafiasMarch 21\, 2026\nLibera – Associations\, Names and 
 Numbers Against the Mafias\nIschia and Procida Branch “Gaetano Montanino”
 \nMemory in Stories\, Commitment in Lives:Testimony by Emilio D’Anna\nMond
 ay\, March 16\, 2026 | 2:00 PMIPS Telese (Ischia) https://ischiaeventi.it/
 en/events/intrattenimento/concerts/event/249683-100-steps-toward-march-21-
 in-memory-of-all-innocent-victims-of-the-mafias
DTSTART:20260316T130000Z
DTEND:20260316T150000Z
LOCATION:IPS 'Vincenzo Telese' (Via Fondo Bosso\, 3\, 80077 Ischia NA\, Ita
 lia)
SUMMARY:100 Steps Toward March 21 in Memory of All Innocent Victims of the 
 Mafias
URL:https://ischiaeventi.it/en/events/intrattenimento/concerts/event/249683
 -100-steps-toward-march-21-in-memory-of-all-innocent-victims-of-the-mafias
END:VEVENT
END:VCALENDAR
