BEGIN:VCALENDAR
VERSION:2.0
PRODID:-//https://ischiaeventi.it///NONSGML kigkonsult.se iCalcreator 2.10.15//
METHOD:PUBLISH
BEGIN:VEVENT
UID:20260422T160154UTC-8584OJPW3J@https://ischiaeventi.it/
DTSTAMP:20260422T160154Z
DESCRIPTION:The Frenchman\, Snow White and the SettebelloMarianna Scagliola
 \nThe Frenchman\, Snow White and the SettebelloPreface by Prof. Francesco 
 Villa\nfrom the Telese Literary Café\nThe Frenchman\, Snow White and the S
 ettebelloby Marianna Scagliolacurated by Daniela Marra\nPresentation organ
 ized in collaboration with “The Traveler Beyond Borders”\, literary series
  of the Ischia FilmArt Festival Luchino Visconti\nThursday\, April 233:30 
 PMConference HallI.P.S. “V. Telese” https://ischiaeventi.it/en/events/intr
 attenimento/concerts/event/249907-the-frenchman-snow-white-and-the-settebe
 llo
DTSTART:20260423T133000Z
DTEND:20260423T160000Z
LOCATION:IPS 'Vincenzo Telese' (Via Fondo Bosso\, 3\, 80077 Ischia NA\, Ita
 lia)
SUMMARY:The Frenchman\, Snow White and the Settebello
URL:https://ischiaeventi.it/en/events/intrattenimento/concerts/event/249907
 -the-frenchman-snow-white-and-the-settebello
END:VEVENT
END:VCALENDAR
