BEGIN:VCALENDAR
VERSION:2.0
PRODID:-//https://ischiaeventi.it///NONSGML kigkonsult.se iCalcreator 2.10.15//
METHOD:PUBLISH
BEGIN:VEVENT
UID:20260422T084143UTC-1400UVCBl3@https://ischiaeventi.it/
DTSTAMP:20260422T084143Z
DESCRIPTION:Piano dance Alberto di Lauro https://ischiaeventi.it/en/events/
 intrattenimento/music/event/29553-street-art
DTSTART:20240511T190000Z
DTEND:20240511T213400Z
LOCATION:Piazza Croce (Via Roma\, 80077 Ischia NA\, Italia)
SUMMARY:Street art
URL:https://ischiaeventi.it/en/events/intrattenimento/music/event/29553-str
 eet-art
END:VEVENT
END:VCALENDAR
