BEGIN:VCALENDAR
VERSION:2.0
PRODID:-//https://ischiaeventi.it///NONSGML kigkonsult.se iCalcreator 2.10.15//
METHOD:PUBLISH
BEGIN:VEVENT
UID:20260420T095358UTC-4701vWJ2b9@https://ischiaeventi.it/
DTSTAMP:20260420T095358Z
DESCRIPTION:Emozioni sui pattini https://ischiaeventi.it/en/events/intratte
 nimento/music/event/31000-emozioni-sui-pattini
DTSTART:20240705T190000Z
DTEND:20240705T213000Z
LOCATION:Palasport F.Taglialatela (Via Fondo Bosso\, 80077 Ischia NA\, Ital
 ia)
SUMMARY:Emozioni sui pattini
URL:https://ischiaeventi.it/en/events/intrattenimento/music/event/31000-emo
 zioni-sui-pattini
END:VEVENT
END:VCALENDAR
