BEGIN:VCALENDAR
VERSION:2.0
PRODID:-//https://ischiaeventi.it///NONSGML kigkonsult.se iCalcreator 2.10.15//
METHOD:PUBLISH
BEGIN:VEVENT
UID:20260420T133133UTC-83183gRI3D@https://ischiaeventi.it/
DTSTAMP:20260420T133133Z
DESCRIPTION:Piazza Marina and Corso – Epiphany Celebration White Night with
  Gigio Rosa and friends from the Radio https://ischiaeventi.it/en/events/i
 ntrattenimento/shows/event/249030-christmas-in-casamicciola-epiphany-celeb
 ration---white-night
DTSTART:20260103T200000Z
DTEND:20260103T205300Z
LOCATION:Piazza Marina Casamicciola Terme (Corso Luigi Manzi\, 1\, 80074 Ca
 samicciola Terme NA\, Italy)
SUMMARY:Christmas in Casamicciola: EPIPHANY CELEBRATION – WHITE NIGHT
URL:https://ischiaeventi.it/en/events/intrattenimento/shows/event/249030-ch
 ristmas-in-casamicciola-epiphany-celebration---white-night
END:VEVENT
END:VCALENDAR
