BEGIN:VCALENDAR
VERSION:2.0
PRODID:-//https://ischiaeventi.it///NONSGML kigkonsult.se iCalcreator 2.10.15//
METHOD:PUBLISH
BEGIN:VEVENT
UID:20260422T102456UTC-5863aPsXbv@https://ischiaeventi.it/
DTSTAMP:20260422T102456Z
DESCRIPTION:Summer Time Serrara: DR WHY E MUSICNIGHT CON SIMONE E ANDY DJ h
 ttps://ischiaeventi.it/en/events/intrattenimento/theatre/event/31239-summe
 r-time-serrara-musicnight-con-dj-alex-cannava
DTSTART:20240801T190000Z
DTEND:20240801T215200Z
LOCATION:Borgo di Sant'Angelo (Via Nazario Sauro\, Sant'angelo NA\, Italia)
SUMMARY:Summer Time Serrara: MUSICNIGHT CON DJ ALEX CANNAVA
URL:https://ischiaeventi.it/en/events/intrattenimento/theatre/event/31239-s
 ummer-time-serrara-musicnight-con-dj-alex-cannava
END:VEVENT
END:VCALENDAR
