BEGIN:VCALENDAR
VERSION:2.0
PRODID:-//https://ischiaeventi.it///NONSGML kigkonsult.se iCalcreator 2.10.15//
METHOD:PUBLISH
BEGIN:VEVENT
UID:20260420T195034UTC-7597NUhmju@https://ischiaeventi.it/
DTSTAMP:20260420T195034Z
DESCRIPTION:Mostra Veranica Acunto\nIngresso Libero\n&nbsp\; https://ischia
 eventi.it/en/events/intrattenimento/theatre/event/68462-mostra-veronica-ac
 unto
DTSTART:20250422T173000Z
DTEND:20250422T190000Z
LOCATION:Villa Arbusto museum (Corso Angelo Rizzoli\, 194\, 80076 Lacco Ame
 no NA\, Italia)
SUMMARY:Mostra Veronica Acunto
URL:https://ischiaeventi.it/en/events/intrattenimento/theatre/event/68462-m
 ostra-veronica-acunto
END:VEVENT
END:VCALENDAR
