BEGIN:VCALENDAR
VERSION:2.0
PRODID:-//https://ischiaeventi.it///NONSGML kigkonsult.se iCalcreator 2.10.15//
METHOD:PUBLISH
BEGIN:VEVENT
UID:20260420T195051UTC-9862PgdAZI@https://ischiaeventi.it/
DTSTAMP:20260420T195051Z
DESCRIPTION:Mostra Veranica Acunto\nIngresso Libero\n&nbsp\; https://ischia
 eventi.it/en/events/intrattenimento/theatre/event/68475-mostra-veronica-ac
 unto
DTSTART:20250505T173000Z
DTEND:20250505T190000Z
LOCATION:Villa Arbusto museum (Corso Angelo Rizzoli\, 194\, 80076 Lacco Ame
 no NA\, Italia)
SUMMARY:Mostra Veronica Acunto
URL:https://ischiaeventi.it/en/events/intrattenimento/theatre/event/68475-m
 ostra-veronica-acunto
END:VEVENT
END:VCALENDAR
