BEGIN:VCALENDAR
VERSION:2.0
PRODID:-//https://ischiaeventi.it///NONSGML kigkonsult.se iCalcreator 2.10.15//
METHOD:PUBLISH
BEGIN:VEVENT
UID:20260420T112530UTC-8419PEwg2k@https://ischiaeventi.it/
DTSTAMP:20260420T112530Z
DESCRIPTION:Buchner Swing Orchestra&nbsp\;Directed by Prof. E. AmazioGiorgi
 o Buchner Music High School https://ischiaeventi.it/en/events/tradizioni/a
 rtistic-performances/event/249436-luce-per-la-pace-sweet-dreams
DTSTART:20260120T180000Z
DTEND:20260120T200000Z
LOCATION:Santa Maria delle Grazie in San Pietro (Corso Vittoria Colonna\, 1
 91\, 80077 Ischia NA\, Italia)
SUMMARY:Luce per la pace: 'Sweet Dreams'
URL:https://ischiaeventi.it/en/events/tradizioni/artistic-performances/even
 t/249436-luce-per-la-pace-sweet-dreams
END:VEVENT
END:VCALENDAR
