BEGIN:VCALENDAR
VERSION:2.0
PRODID:-//https://ischiaeventi.it///NONSGML kigkonsult.se iCalcreator 2.10.15//
METHOD:PUBLISH
BEGIN:VEVENT
UID:20260420T125311UTC-4910XvC3up@https://ischiaeventi.it/
DTSTAMP:20260420T125311Z
DESCRIPTION:Team Event (max 5 people)Search\, solve\, follow the clues… and
  win!\nFor information and registration: 3487562291Gertrud Streicher Assoc
 iation\nAssociationUnder the patronage of Gertrud Streicher – Succhivo htt
 ps://ischiaeventi.it/en/events/tradizioni/artistic-performances/event/2494
 64-carnival-treasure-hunt
DTSTART:20260215T140000Z
DTEND:20260215T170000Z
LOCATION:Succhivo (Provinciale Succhivo Sant'Angelo\, 21-27\, 80070 Sant'An
 gelo NA\, Italy)
SUMMARY:Carnival: TREASURE HUNT
URL:https://ischiaeventi.it/en/events/tradizioni/artistic-performances/even
 t/249464-carnival-treasure-hunt
END:VEVENT
END:VCALENDAR
