BEGIN:VCALENDAR
VERSION:2.0
PRODID:-//https://ischiaeventi.it///NONSGML kigkonsult.se iCalcreator 2.10.15//
METHOD:PUBLISH
BEGIN:VEVENT
UID:20260420T095310UTC-6619i0aA71@https://ischiaeventi.it/
DTSTAMP:20260420T095310Z
DESCRIPTION:A podcast by RMS\, 'Nostos and the Wonders of the Past\,' for t
 he Municipality of Lacco Ameno. Produced by Studio A.Moderated by Ciro Cen
 atiempo.\nBook presentation with live readings.\nThursdayApril 2\, 6:30 PM
 Villa Arbusto\, Lacco Ameno\nFree admission. https://ischiaeventi.it/en/ev
 ents/tradizioni/artistic-performances/event/249792-sulle-tracce-del-passat
 o
DTSTART:20260402T163000Z
DTEND:20260402T180000Z
LOCATION:Villa Arbusto museum (Corso Angelo Rizzoli\, 194\, 80076 Lacco Ame
 no NA\, Italia)
SUMMARY:Sulle tracce del passato
URL:https://ischiaeventi.it/en/events/tradizioni/artistic-performances/even
 t/249792-sulle-tracce-del-passato
END:VEVENT
END:VCALENDAR
