BEGIN:VCALENDAR
VERSION:2.0
PRODID:-//https://ischiaeventi.it///NONSGML kigkonsult.se iCalcreator 2.10.15//
METHOD:PUBLISH
BEGIN:VEVENT
UID:20260420T083539UTC-3615KAvG5X@https://ischiaeventi.it/
DTSTAMP:20260420T083539Z
DESCRIPTION:24 Dicembre 31 Dicembreore 12:00: Brunch di Natale &amp\; Capod
 anno Ischia Porto - Riva Destra - Ischia Ponte https://ischiaeventi.it/en/
 events/tradizioni/artistic-performances/event/27600-brunch-di-natale-e-cap
 odanno
DTSTART:20231231T110000Z
DTEND:20231231T150000Z
LOCATION:Riva Destra (Via Porto\, 33\, 80077 Ischia NA\, Italia)
SUMMARY: Brunch di Natale e Capodanno
URL:https://ischiaeventi.it/en/events/tradizioni/artistic-performances/even
 t/27600-brunch-di-natale-e-capodanno
END:VEVENT
END:VCALENDAR
