BEGIN:VCALENDAR
VERSION:2.0
PRODID:-//https://ischiaeventi.it///NONSGML kigkonsult.se iCalcreator 2.10.15//
METHOD:PUBLISH
BEGIN:VEVENT
UID:20260420T100802UTC-1910h5PZeP@https://ischiaeventi.it/
DTSTAMP:20260420T100802Z
DESCRIPTION:Esposizione Iacono Mattera Waschimps https://ischiaeventi.it/en
 /events/tradizioni/artistic-performances/event/28780-esposizione-iacono-ma
 ttera-waschimps
DTSTART:20240413T160000Z
DTEND:20240413T180000Z
LOCATION:Villa Arbusto museum (Corso Angelo Rizzoli\, 194\, 80076 Lacco Ame
 no NA\, Italia)
SUMMARY:Esposizione Iacono Mattera Waschimps
URL:https://ischiaeventi.it/en/events/tradizioni/artistic-performances/even
 t/28780-esposizione-iacono-mattera-waschimps
END:VEVENT
END:VCALENDAR
