BEGIN:VCALENDAR
VERSION:2.0
PRODID:-//https://ischiaeventi.it///NONSGML kigkonsult.se iCalcreator 2.10.15//
METHOD:PUBLISH
BEGIN:VEVENT
UID:20260420T084003UTC-15694v3vDu@https://ischiaeventi.it/
DTSTAMP:20260420T084003Z
DESCRIPTION:Umberto Tozzi: Notte rosa tour\nBiglietti disponibili su ticket
 One https://ischiaeventi.it/en/events/tradizioni/artistic-performances/eve
 nt/30703-umberto-tozzi-notte-rosa-tour
DTSTART:20240809T190000Z
DTEND:20240809T215100Z
LOCATION:Parco Termale Negombo (Baia di S. Montano\, - 80076 Lacco Ameno NA
 \, Italia)
SUMMARY:Umberto Tozzi: Notte rosa tour
URL:https://ischiaeventi.it/en/events/tradizioni/artistic-performances/even
 t/30703-umberto-tozzi-notte-rosa-tour
END:VEVENT
END:VCALENDAR
