BEGIN:VCALENDAR
VERSION:2.0
PRODID:-//https://ischiaeventi.it///NONSGML kigkonsult.se iCalcreator 2.10.15//
METHOD:PUBLISH
BEGIN:VEVENT
UID:20260421T145526UTC-5196Eh3VEu@https://ischiaeventi.it/
DTSTAMP:20260421T145526Z
DESCRIPTION:Saggio PGS ISCHIA PATTINAGGIO https://ischiaeventi.it/en/events
 /tradizioni/artistic-performances/event/30998-saggio-pgs-ischia-pattinaggi
 o-around-the-world
DTSTART:20240707T193000Z
DTEND:20240707T215900Z
LOCATION:Palasport F.Taglialatela (Via Fondo Bosso\, 80077 Ischia NA\, Ital
 ia)
SUMMARY: Saggio PGS ISCHIA PATTINAGGIO: Around the world
URL:https://ischiaeventi.it/en/events/tradizioni/artistic-performances/even
 t/30998-saggio-pgs-ischia-pattinaggio-around-the-world
END:VEVENT
END:VCALENDAR
