BEGIN:VCALENDAR
VERSION:2.0
PRODID:-//https://ischiaeventi.it///NONSGML kigkonsult.se iCalcreator 2.10.15//
METHOD:PUBLISH
BEGIN:VEVENT
UID:20260420T170430UTC-9909HZ10PU@https://ischiaeventi.it/
DTSTAMP:20260420T170430Z
DESCRIPTION:Summer Time Serrara: MUSICNIGHT CON DJ TONY ROMANO https://isch
 iaeventi.it/en/events/tradizioni/artistic-performances/event/31236-summer-
 time-serrara-musicnight-con-dj-tony-romano
DTSTART:20240725T190000Z
DTEND:20240725T215200Z
LOCATION:Borgo di Sant'Angelo (Via Nazario Sauro\, Sant'angelo NA\, Italia)
SUMMARY:Summer Time Serrara: MUSICNIGHT CON DJ TONY ROMANO
URL:https://ischiaeventi.it/en/events/tradizioni/artistic-performances/even
 t/31236-summer-time-serrara-musicnight-con-dj-tony-romano
END:VEVENT
END:VCALENDAR
