BEGIN:VCALENDAR
VERSION:2.0
PRODID:-//https://ischiaeventi.it///NONSGML kigkonsult.se iCalcreator 2.10.15//
METHOD:PUBLISH
BEGIN:VEVENT
UID:20260420T134014UTC-9928xAslXe@https://ischiaeventi.it/
DTSTAMP:20260420T134014Z
DESCRIPTION:Summer Time Serrara: DR WHY E MUSICNIGHT CON ANDY E FABER DJ ht
 tps://ischiaeventi.it/en/events/tradizioni/artistic-performances/event/312
 44-summer-time-serrara-dr-why-e-musicnight-con-andy-e-faber-dj
DTSTART:20240810T190000Z
DTEND:20240810T210000Z
LOCATION:Piazza Fontana (80070 Serrara Fontana NA\, Italia)
SUMMARY:Summer Time Serrara: DR WHY E MUSICNIGHT CON ANDY E FABER DJ
URL:https://ischiaeventi.it/en/events/tradizioni/artistic-performances/even
 t/31244-summer-time-serrara-dr-why-e-musicnight-con-andy-e-faber-dj
END:VEVENT
END:VCALENDAR
