BEGIN:VCALENDAR
VERSION:2.0
PRODID:-//https://ischiaeventi.it///NONSGML kigkonsult.se iCalcreator 2.10.15//
METHOD:PUBLISH
BEGIN:VEVENT
UID:20260420T115337UTC-6582Ou3oST@https://ischiaeventi.it/
DTSTAMP:20260420T115337Z
DESCRIPTION:Summer Time Serrara: 'LE LINEE EI COLORI DI MONDRIAN' ATTIVITÀ 
 LABORATORIALE PER BAMBINI A CURA DE IL MONDO DI ALICE https://ischiaeventi
 .it/en/events/tradizioni/artistic-performances/event/31248-summer-time-ser
 rara-le-linee-ei-colori-di-mondrian
DTSTART:20240821T170000Z
DTEND:20240821T190000Z
LOCATION:Piazza Succhivo (Via Succhivo\, 80070 Sant'Angelo NA\, Italia)
SUMMARY:Summer Time Serrara: 'LE LINEE EI COLORI DI MONDRIAN' 
URL:https://ischiaeventi.it/en/events/tradizioni/artistic-performances/even
 t/31248-summer-time-serrara-le-linee-ei-colori-di-mondrian
END:VEVENT
END:VCALENDAR
