BEGIN:VCALENDAR
VERSION:2.0
PRODID:-//https://ischiaeventi.it///NONSGML kigkonsult.se iCalcreator 2.10.15//
METHOD:PUBLISH
BEGIN:VEVENT
UID:20260421T145708UTC-6144U3RmOU@https://ischiaeventi.it/
DTSTAMP:20260421T145708Z
DESCRIPTION:Summer Time Serrara: MUSICNIGHT CON ANDY E FABER DJ https://isc
 hiaeventi.it/en/events/tradizioni/artistic-performances/event/31251-summer
 -time-serrara-musicnight-con-andy-e-faber-dj
DTSTART:20240824T190000Z
DTEND:20240824T210000Z
LOCATION:Piazza Fontana (80070 Serrara Fontana NA\, Italia)
SUMMARY:Summer Time Serrara:  MUSICNIGHT CON ANDY E FABER DJ
URL:https://ischiaeventi.it/en/events/tradizioni/artistic-performances/even
 t/31251-summer-time-serrara-musicnight-con-andy-e-faber-dj
END:VEVENT
END:VCALENDAR
