BEGIN:VCALENDAR
VERSION:2.0
PRODID:-//https://ischiaeventi.it///NONSGML kigkonsult.se iCalcreator 2.10.15//
METHOD:PUBLISH
BEGIN:VEVENT
UID:20260420T103414UTC-8489OJu7zU@https://ischiaeventi.it/
DTSTAMP:20260420T103414Z
DESCRIPTION:Incontri di cultura su Vittorio De Sica https://ischiaeventi.it
 /en/events/tradizioni/artistic-performances/event/31569-vittorio-de-sica-p
 atrimonio-allitaliana
DTSTART:20240730T193000Z
DTEND:20240730T213000Z
LOCATION:Villa Arbusto museum (Corso Angelo Rizzoli\, 194\, 80076 Lacco Ame
 no NA\, Italia)
SUMMARY:Vittorio De Sica: patrimonio all'italiana
URL:https://ischiaeventi.it/en/events/tradizioni/artistic-performances/even
 t/31569-vittorio-de-sica-patrimonio-allitaliana
END:VEVENT
END:VCALENDAR
