BEGIN:VCALENDAR
VERSION:2.0
PRODID:-//https://ischiaeventi.it///NONSGML kigkonsult.se iCalcreator 2.10.15//
METHOD:PUBLISH
BEGIN:VEVENT
UID:20260420T224109UTC-3761oVJSUe@https://ischiaeventi.it/
DTSTAMP:20260420T224109Z
DESCRIPTION:Celebrazione della festività della MADONNA ASSUNTA Con messa\, 
 processione e fuochi pirotecnici lungo il corso principale. A cura della C
 ongrega di Santa Maria Assunta https://ischiaeventi.it/en/events/tradizion
 i/artistic-performances/event/31656-e-state-insieme-a-lacco-ameno-celebraz
 ione-della-festivita-della-madonna-assunta
DTSTART:20240815T180000Z
DTEND:20240815T212300Z
LOCATION:Piazza Rosario (Via Rosario\, 80076 Lacco Ameno NA\, Italia)
SUMMARY:E-state insieme a Lacco Ameno: Celebrazione della festività della M
 ADONNA ASSUNTA
URL:https://ischiaeventi.it/en/events/tradizioni/artistic-performances/even
 t/31656-e-state-insieme-a-lacco-ameno-celebrazione-della-festivita-della-m
 adonna-assunta
END:VEVENT
END:VCALENDAR
