BEGIN:VCALENDAR
VERSION:2.0
PRODID:-//https://ischiaeventi.it///NONSGML kigkonsult.se iCalcreator 2.10.15//
METHOD:PUBLISH
BEGIN:VEVENT
UID:20260420T164140UTC-0916ViWuvA@https://ischiaeventi.it/
DTSTAMP:20260420T164140Z
DESCRIPTION:15.30 EVENTO PER BAMBINI divertimento per i più piccini tra le 
 strade del borgo di Panza https://ischiaeventi.it/en/events/tradizioni/art
 istic-performances/event/34091-forio-merryland-evento-per-bambini
DTSTART:20241214T143000Z
DTEND:20241214T153000Z
LOCATION:Comune di Forio (Piazza Municipio\, 1\, 80075 Forio NA\, Italia)
SUMMARY:Forio MerryLand: EVENTO PER BAMBINI
URL:https://ischiaeventi.it/en/events/tradizioni/artistic-performances/even
 t/34091-forio-merryland-evento-per-bambini
END:VEVENT
END:VCALENDAR
