BEGIN:VCALENDAR
VERSION:2.0
PRODID:-//https://ischiaeventi.it///NONSGML kigkonsult.se iCalcreator 2.10.15//
METHOD:PUBLISH
BEGIN:VEVENT
UID:20260420T115418UTC-1177A8aFC5@https://ischiaeventi.it/
DTSTAMP:20260420T115418Z
DESCRIPTION:12.00 XMAS EVE BRUNCH il famoso brunch foriano con musica diffu
 sa e assaggi delle nostre specialità gastronomiche per le strade del paese
  a cura dei ristoratori locali\n&nbsp\; https://ischiaeventi.it/en/events/
 tradizioni/artistic-performances/event/34115-forio-merryland-xmas-eve-brun
 ch
DTSTART:20241224T110000Z
DTEND:20241224T130000Z
LOCATION:Comune di Forio (Piazza Municipio\, 1\, 80075 Forio NA\, Italia)
SUMMARY:Forio MerryLand: XMAS EVE BRUNCH
URL:https://ischiaeventi.it/en/events/tradizioni/artistic-performances/even
 t/34115-forio-merryland-xmas-eve-brunch
END:VEVENT
END:VCALENDAR
