BEGIN:VCALENDAR
VERSION:2.0
PRODID:-//https://ischiaeventi.it///NONSGML kigkonsult.se iCalcreator 2.10.15//
METHOD:PUBLISH
BEGIN:VEVENT
UID:20260420T224031UTC-5072sB981s@https://ischiaeventi.it/
DTSTAMP:20260420T224031Z
DESCRIPTION:Presepi in Cammino percorsi presepiali\, artigianali e artistic
 i\, chiese e boutique https://ischiaeventi.it/en/events/tradizioni/artisti
 c-performances/event/38222-lacco-ameno-in-canti-di-natale-presepi-in-cammi
 no
DTSTART;VALUE=DATE:20241226
LOCATION:Lacco Ameno (Piazza Santa Restituta\, 80076 Lacco Ameno NA\, Itali
 a)
SUMMARY:Lacco Ameno In-canti di Natale: presepi in cammino
URL:https://ischiaeventi.it/en/events/tradizioni/artistic-performances/even
 t/38222-lacco-ameno-in-canti-di-natale-presepi-in-cammino
END:VEVENT
END:VCALENDAR
