BEGIN:VCALENDAR
VERSION:2.0
PRODID:-//https://ischiaeventi.it///NONSGML kigkonsult.se iCalcreator 2.10.15//
METHOD:PUBLISH
BEGIN:VEVENT
UID:20260420T155659UTC-7770iw1I2p@https://ischiaeventi.it/
DTSTAMP:20260420T155659Z
DESCRIPTION:LA DISCOTECA SILENZIOSA\nvi aspettiamo a SANT'ANGELO dalle 21.3
 0\nsi ballerà con utilizzo di cuffie wireless\, e si potrà scegliere selez
 ionando i canali della cuffia il proprio genere o dj preferito\nEVENTO ORG
 ANIZZATO DAL COMUNE DI SERRARA FONTANA\ndistribuzione cuffie completamente
  gratuita https://ischiaeventi.it/en/events/tradizioni/event/30746-la-disc
 oteca-silenziosa
DTSTART:20240621T193000Z
DTEND:20240621T213300Z
LOCATION:Borgo di Sant'Angelo (Via Nazario Sauro\, Sant'angelo NA\, Italia)
SUMMARY:La discoteca silenziosa
URL:https://ischiaeventi.it/en/events/tradizioni/event/30746-la-discoteca-s
 ilenziosa
END:VEVENT
END:VCALENDAR
