BEGIN:VCALENDAR
VERSION:2.0
PRODID:-//https://ischiaeventi.it///NONSGML kigkonsult.se iCalcreator 2.10.15//
METHOD:PUBLISH
BEGIN:VEVENT
UID:20260420T100307UTC-3260S3FXfo@https://ischiaeventi.it/
DTSTAMP:20260420T100307Z
DESCRIPTION:MUSICNIGHT CON DJ PAKINHO TIME https://ischiaeventi.it/en/event
 s/tradizioni/event/31241-summer-time-serrara-musicnight-con-dj-pakinho-tim
 e
DTSTART:20240803T190000Z
DTEND:20240803T215200Z
LOCATION:Piazza Fontana (80070 Serrara Fontana NA\, Italia)
SUMMARY:Summer Time Serrara: MUSICNIGHT CON DJ PAKINHO TIME
URL:https://ischiaeventi.it/en/events/tradizioni/event/31241-summer-time-se
 rrara-musicnight-con-dj-pakinho-time
END:VEVENT
END:VCALENDAR
