BEGIN:VCALENDAR
VERSION:2.0
PRODID:-//https://ischiaeventi.it///NONSGML kigkonsult.se iCalcreator 2.10.15//
METHOD:PUBLISH
BEGIN:VEVENT
UID:20260420T102041UTC-9345cgE9hV@https://ischiaeventi.it/
DTSTAMP:20260420T102041Z
DESCRIPTION:Villaggio di Babbo Natale &amp\; gonfiabili a cura di Azzurra S
 pettacoli https://ischiaeventi.it/en/events/tradizioni/event/36886-mare-co
 pp-mas-villaggio-di-babbo-natale-gonfiabili
DTSTART:20241223T140000Z
DTEND:20241223T170000Z
LOCATION:Piazza Serrara (80070 Serrara Fontana NA\, Italia)
SUMMARY:Mare Copp Mas: Villaggio di Babbo Natale & gonfiabili
URL:https://ischiaeventi.it/en/events/tradizioni/event/36886-mare-copp-mas-
 villaggio-di-babbo-natale-gonfiabili
END:VEVENT
END:VCALENDAR
