BEGIN:VCALENDAR
VERSION:2.0
PRODID:-//https://ischiaeventi.it///NONSGML kigkonsult.se iCalcreator 2.10.15//
METHOD:PUBLISH
BEGIN:VEVENT
UID:20260420T132101UTC-4937rtxfaS@https://ischiaeventi.it/
DTSTAMP:20260420T132101Z
DESCRIPTION:Memorial Luciano Napolano https://ischiaeventi.it/en/events/tra
 dizioni/gastronomy/event/28802-torneo-di-calcio-balilla
DTSTART:20240321T173000Z
DTEND:20240321T190000Z
LOCATION:Succhivo (Provinciale Succhivo Sant'Angelo\, 21-27\, 80070 Sant'An
 gelo NA\, Italy)
SUMMARY:Torneo di calcio Balilla
URL:https://ischiaeventi.it/en/events/tradizioni/gastronomy/event/28802-tor
 neo-di-calcio-balilla
END:VEVENT
END:VCALENDAR
