BEGIN:VCALENDAR
VERSION:2.0
PRODID:-//https://ischiaeventi.it///NONSGML kigkonsult.se iCalcreator 2.10.15//
METHOD:PUBLISH
BEGIN:VEVENT
UID:20260420T144348UTC-09626tS3TC@https://ischiaeventi.it/
DTSTAMP:20260420T144348Z
DESCRIPTION:Incontri di cultura su Vittorio De Sica https://ischiaeventi.it
 /en/events/tradizioni/gastronomy/event/31571-vittorio-de-sica-patrimonio-a
 llitaliana
DTSTART:20240801T193000Z
DTEND:20240801T213000Z
LOCATION:Villa Arbusto museum (Corso Angelo Rizzoli\, 194\, 80076 Lacco Ame
 no NA\, Italia)
SUMMARY:Vittorio De Sica: patrimonio all'italiana
URL:https://ischiaeventi.it/en/events/tradizioni/gastronomy/event/31571-vit
 torio-de-sica-patrimonio-allitaliana
END:VEVENT
END:VCALENDAR
