BEGIN:VCALENDAR
VERSION:2.0
PRODID:-//https://ischiaeventi.it///NONSGML kigkonsult.se iCalcreator 2.10.15//
METHOD:PUBLISH
BEGIN:VEVENT
UID:20260420T193350UTC-6538cP3rGu@https://ischiaeventi.it/
DTSTAMP:20260420T193350Z
DESCRIPTION:Presepi in Cammino percorsi presepiali\, artigianali e artistic
 i\, chiese e boutique https://ischiaeventi.it/en/events/tradizioni/gastron
 omy/event/38219-lacco-ameno-in-canti-di-natale-presepi-in-cammino
DTSTART;VALUE=DATE:20241223
LOCATION:Lacco Ameno (Piazza Santa Restituta\, 80076 Lacco Ameno NA\, Itali
 a)
SUMMARY:Lacco Ameno In-canti di Natale: presepi in cammino
URL:https://ischiaeventi.it/en/events/tradizioni/gastronomy/event/38219-lac
 co-ameno-in-canti-di-natale-presepi-in-cammino
END:VEVENT
END:VCALENDAR
