BEGIN:VCALENDAR
VERSION:2.0
PRODID:-//https://ischiaeventi.it///NONSGML kigkonsult.se iCalcreator 2.10.15//
METHOD:PUBLISH
BEGIN:VEVENT
UID:20260420T134716UTC-1472o4jrru@https://ischiaeventi.it/
DTSTAMP:20260420T134716Z
DESCRIPTION:20.00 CABARET SHOW una serata di puro divertimento con i simpat
 ici sketch del famoso comico di Made in Sud in Piazza San Leonardo in Panz
 a https://ischiaeventi.it/en/events/tradizioni/society/event/34085-forio-m
 erryland-cabaret-show
DTSTART:20241208T190000Z
DTEND:20241208T210000Z
LOCATION:Comune di Forio (Piazza Municipio\, 1\, 80075 Forio NA\, Italia)
SUMMARY:Forio MerryLand: CABARET SHOW
URL:https://ischiaeventi.it/en/events/tradizioni/society/event/34085-forio-
 merryland-cabaret-show
END:VEVENT
END:VCALENDAR
