BEGIN:VCALENDAR
VERSION:2.0
PRODID:-//https://ischiaeventi.it///NONSGML kigkonsult.se iCalcreator 2.10.15//
METHOD:PUBLISH
BEGIN:VEVENT
UID:20260421T145843UTC-86786SlsWX@https://ischiaeventi.it/
DTSTAMP:20260421T145843Z
DESCRIPTION:19.30 SPETTACOLO CON CORO degli allievi nel Chiostro di San Fra
 ncesco in Piazza Municipio Forio https://ischiaeventi.it/en/events/tradizi
 oni/society/event/34100-forio-merryland-spettacolo-con-coro
DTSTART:20241219T183000Z
DTEND:20241219T200000Z
LOCATION:Comune di Forio (Piazza Municipio\, 1\, 80075 Forio NA\, Italia)
SUMMARY:Forio MerryLand: SPETTACOLO CON CORO
URL:https://ischiaeventi.it/en/events/tradizioni/society/event/34100-forio-
 merryland-spettacolo-con-coro
END:VEVENT
END:VCALENDAR
