BEGIN:VCALENDAR
VERSION:2.0
PRODID:-//https://ischiaeventi.it///NONSGML kigkonsult.se iCalcreator 2.10.15//
METHOD:PUBLISH
BEGIN:VEVENT
UID:20260424T211923UTC-5893GKtvtb@https://ischiaeventi.it/
DTSTAMP:20260424T211923Z
DESCRIPTION:Ischia Latin Festival – 2nd EditionMarch 27\, 28\, 29\, 2026\nF
 air Events\nMichelangelo Family &amp\; Spa Resort\nBalliamo Salsa Napoli h
 ttps://ischiaeventi.it/en/past-events/event/249719-ischia-latin-festival--
 -2nd-edition
DTSTART:20260323T093700Z
DTEND:20260323T113700Z
LOCATION:Park Hotel Terme Michelangelo (Via Provinciale Lacco - Fango\, 77\
 , 80076 Lacco Ameno NA\, Italia)
SUMMARY:Ischia Latin Festival – 2nd Edition
URL:https://ischiaeventi.it/en/past-events/event/249719-ischia-latin-festiv
 al---2nd-edition
END:VEVENT
END:VCALENDAR
