BEGIN:VCALENDAR
VERSION:2.0
PRODID:-//https://ischiaeventi.it///NONSGML kigkonsult.se iCalcreator 2.10.15//
METHOD:PUBLISH
BEGIN:VEVENT
UID:20260424T194126UTC-1100CpZzej@https://ischiaeventi.it/
DTSTAMP:20260424T194126Z
DESCRIPTION:5:00 p.m. – Way of the Cross through the avenues of the Cemeter
 y\, led by the children. 7:00 p.m. – Vigil Holy Mass at San Domenico. http
 s://ischiaeventi.it/en/past-events/event/249786-easter-in-ischia-way-of-th
 e-cross
DTSTART:20260329T150000Z
DTEND:20260329T173000Z
LOCATION:Parrocchia di Sant'Antonio Abate (Via Acquedotto\, 63\, 80077 Isch
 ia NA\, Italia)
SUMMARY:Easter in Ischia: Way of the Cross
URL:https://ischiaeventi.it/en/past-events/event/249786-easter-in-ischia-wa
 y-of-the-cross
END:VEVENT
END:VCALENDAR
