BEGIN:VCALENDAR
VERSION:2.0
PRODID:-//https://ischiaeventi.it///NONSGML kigkonsult.se iCalcreator 2.10.15//
METHOD:PUBLISH
BEGIN:VEVENT
UID:20260424T231844UTC-2267i1vRah@https://ischiaeventi.it/
DTSTAMP:20260424T231844Z
DESCRIPTION:18 + Art\, mostra per adulti prenotazione obbligatoria https://
 ischiaeventi.it/en/past-events/event/249875-18-art-show
DTSTART:20260416T160000Z
DTEND:20260416T183000Z
LOCATION:Agriturismo La pergola (Via S. Giuseppe\, 24\, 80075 Forio NA\, It
 alia)
SUMMARY:18 + Art show
URL:https://ischiaeventi.it/en/past-events/event/249875-18-art-show
END:VEVENT
END:VCALENDAR
