BEGIN:VCALENDAR
VERSION:2.0
PRODID:-//https://ischiaeventi.it///NONSGML kigkonsult.se iCalcreator 2.10.15//
METHOD:PUBLISH
BEGIN:VEVENT
UID:20260424T221354UTC-2058SRBJNc@https://ischiaeventi.it/
DTSTAMP:20260424T221354Z
DESCRIPTION:a cura del Collettivo Mediterraneo Identità\, diversità e confi
 ni nel Mediterraneo\, raccontati ai bambini. Laboratorio dai 7 ai 12 anni 
 https://ischiaeventi.it/en/past-events/event/31539-rassegna-estiva-la-colo
 mbaia-tavole-future
DTSTART:20240826T170000Z
DTEND:20240826T193000Z
LOCATION:La Colombaia (Via Francesco Calise\, 130\, 80075 Forio NA\, Italia
 )
SUMMARY:Rassegna estiva La Colombaia: Tavole Future
URL:https://ischiaeventi.it/en/past-events/event/31539-rassegna-estiva-la-c
 olombaia-tavole-future
END:VEVENT
END:VCALENDAR
