BEGIN:VCALENDAR
VERSION:2.0
PRODID:-//https://ischiaeventi.it///NONSGML kigkonsult.se iCalcreator 2.10.15//
METHOD:PUBLISH
BEGIN:VEVENT
UID:20260421T165213UTC-3834JEa2wl@https://ischiaeventi.it/
DTSTAMP:20260421T165213Z
DESCRIPTION:Commedia teatrale 'Nu bambenielle tre San Giuseppe' di Gaetano 
 Di Maio\, a cura della compagnia Teatro da Tre Soldi https://ischiaeventi.
 it/eventi-ad-ischia/cultura/architettura/evento/249210-natale-a-serrara-nu
 -bambenielle-tre-san-giuseppe
DTSTART:20251225T180000Z
DTEND:20251226T200000Z
LOCATION:Comune di Serrara Fontana (Via Roma\, 79\, 80070 Serrara Fontana N
 A\, Italia)
SUMMARY:Natale a Serrara: 'Nu bambenielle tre San Giuseppe'
URL:https://ischiaeventi.it/eventi-ad-ischia/cultura/architettura/evento/24
 9210-natale-a-serrara-nu-bambenielle-tre-san-giuseppe
END:VEVENT
END:VCALENDAR
